BEGIN:VCALENDAR
VERSION:2.0
PRODID:-//ChamberMaster//Event Calendar 2.0//EN
METHOD:PUBLISH
X-PUBLISHED-TTL:P1H
REFRESH-INTERVAL:P1H
CALSCALE:GREGORIAN
BEGIN:VTIMEZONE
TZID:America/New_York
BEGIN:DAYLIGHT
RRULE:FREQ=YEARLY;BYMONTH=3;BYDAY=2SU
DTSTART:20070101T000000
TZOFFSETFROM:-0500
TZOFFSETTO:-0400
TZNAME:Eastern Daylight Time
END:DAYLIGHT
BEGIN:STANDARD
RRULE:FREQ=YEARLY;BYMONTH=11;BYDAY=1SU
DTSTART:20070101T000000
TZOFFSETFROM:-0400
TZOFFSETTO:-0500
TZNAME:Eastern Standard Time
END:STANDARD
END:VTIMEZONE
BEGIN:VEVENT
DTSTART;TZID=America/New_York:20260629T173000
DTEND;TZID=America/New_York:20260630T210000
X-MICROSOFT-CDO-ALLDAYEVENT:FALSE
SUMMARY:Firecracker Games 3v3 Basketball
DESCRIPTION:Miller Park June 29-30 Team cost: $50
X-ALT-DESC;FMTTYPE=text/html:<!DOCTYPE html><html><head><title></title></head><body aria-disabled="false"><p>Miller Park June 29-30&nbsp\;</p><p>Team cost: $50</p></body></html>
LOCATION:Campbellsville 42718
UID:e.4665.1437825
SEQUENCE:3
DTSTAMP:20260425T150827Z
URL:https://business.campbellsvillechamber.com/eventcalendar/Details/firecracker-games-3v3-basketball-1701848?sourceTypeId=Hub
END:VEVENT
END:VCALENDAR
